BEGIN:VCALENDAR
VERSION:2.0
PRODID:spatie/icalendar-generator
DESCRIPTION:Évènements de Acef Multisites
X-WR-CALDESC:Évènements de Acef Multisites
REFRESH-INTERVAL;VALUE=DURATION:PT1440M
X-PUBLISHED-TTL:PT1440M
BEGIN:VTIMEZONE
TZID:Europe/Paris
BEGIN:STANDARD
DTSTART:20231029T030000Z
TZOFFSETFROM:+0200
TZOFFSETTO:+0100
END:STANDARD
BEGIN:DAYLIGHT
DTSTART:20240331T020000Z
TZOFFSETFROM:+0100
TZOFFSETTO:+0200
END:DAYLIGHT
BEGIN:STANDARD
DTSTART:20241027T030000Z
TZOFFSETFROM:+0200
TZOFFSETTO:+0100
END:STANDARD
END:VTIMEZONE
BEGIN:VTIMEZONE
TZID:UTC
BEGIN:STANDARD
DTSTART:20250726T090436Z
TZOFFSETFROM:+0000
TZOFFSETTO:+0000
END:STANDARD
END:VTIMEZONE
BEGIN:VEVENT
UID:89-82
DTSTAMP:20260422T090436Z
SUMMARY:ANIMATION BPS/ACEF
LOCATION:
ORGANIZER;CN=Jany DARDÉ:MAILTO:jany.darde@orange.fr
DTSTART;TZID=Europe/Paris:20240514T130000
DTEND;TZID=Europe/Paris:20240514T160000
X-ALT-DESC;FMTTYPE=TEXT/HTML:
CATEGORIES:Acef POAA
URL;VALUE=URI:https://www.acef-du-sud.fr/mc-events/animation-bps-acef/
METHOD:PUBLISH
END:VEVENT
END:VCALENDAR