BEGIN:VCALENDAR
VERSION:2.0
PRODID:spatie/icalendar-generator
DESCRIPTION:Évènements de Acef Multisites
X-WR-CALDESC:Évènements de Acef Multisites
REFRESH-INTERVAL;VALUE=DURATION:PT1440M
X-PUBLISHED-TTL:PT1440M
BEGIN:VTIMEZONE
TZID:Europe/Paris
BEGIN:STANDARD
DTSTART:20231029T030000Z
TZOFFSETFROM:+0200
TZOFFSETTO:+0100
END:STANDARD
BEGIN:DAYLIGHT
DTSTART:20240331T020000Z
TZOFFSETFROM:+0100
TZOFFSETTO:+0200
END:DAYLIGHT
END:VTIMEZONE
BEGIN:VTIMEZONE
TZID:UTC
BEGIN:STANDARD
DTSTART:20250727T101752Z
TZOFFSETFROM:+0000
TZOFFSETTO:+0000
END:STANDARD
END:VTIMEZONE
BEGIN:VEVENT
UID:75-68
DTSTAMP:20260423T101752Z
SUMMARY:BPS &amp;amp\; ACEF -MAIRIE DE STE MARIE LA MER
LOCATION:
ORGANIZER;CN=M-Louise CASTAGNÉ:MAILTO:marielouisecastagne@gmail.com
DTSTART;TZID=Europe/Paris:20240328T090000
DTEND;TZID=Europe/Paris:20240328T120000
X-ALT-DESC;FMTTYPE=TEXT/HTML:
CATEGORIES:Acef POAA
URL;VALUE=URI:https://www.acef-du-sud.fr/mc-events/bps-acef-mairie-de-ste-m
 arie-la-mer/
METHOD:PUBLISH
END:VEVENT
END:VCALENDAR