BEGIN:VCALENDAR
VERSION:2.0
PRODID:spatie/icalendar-generator
DESCRIPTION:Évènements de Acef Multisites
X-WR-CALDESC:Évènements de Acef Multisites
REFRESH-INTERVAL;VALUE=DURATION:PT1440M
X-PUBLISHED-TTL:PT1440M
BEGIN:VTIMEZONE
TZID:Europe/Paris
BEGIN:STANDARD
DTSTART:20231029T030000Z
TZOFFSETFROM:+0200
TZOFFSETTO:+0100
END:STANDARD
BEGIN:DAYLIGHT
DTSTART:20240331T020000Z
TZOFFSETFROM:+0100
TZOFFSETTO:+0200
END:DAYLIGHT
END:VTIMEZONE
BEGIN:VTIMEZONE
TZID:UTC
BEGIN:STANDARD
DTSTART:20250727T080820Z
TZOFFSETFROM:+0000
TZOFFSETTO:+0000
END:STANDARD
END:VTIMEZONE
BEGIN:VEVENT
UID:64-57
DTSTAMP:20260423T080820Z
SUMMARY:ACEF/BPS  Permanence CH béziers
LOCATION:
ORGANIZER;CN=Marie-France MAUREL:MAILTO:mfrance.maurel@orange.fr
DTSTART;TZID=Europe/Paris:20240223T113000
DTEND;TZID=Europe/Paris:20240223T150000
X-ALT-DESC;FMTTYPE=TEXT/HTML:Permanence
CATEGORIES:Acef MIDI
URL;VALUE=URI:https://www.acef-du-sud.fr/mc-events/acef-bps-permanence-ch-b
 eziers/
METHOD:PUBLISH
END:VEVENT
END:VCALENDAR