BEGIN:VCALENDAR
VERSION:2.0
PRODID:spatie/icalendar-generator
DESCRIPTION:Évènements de Acef Multisites
X-WR-CALDESC:Évènements de Acef Multisites
REFRESH-INTERVAL;VALUE=DURATION:PT1440M
X-PUBLISHED-TTL:PT1440M
BEGIN:VTIMEZONE
TZID:Europe/Paris
BEGIN:DAYLIGHT
DTSTART:20230326T020000Z
TZOFFSETFROM:+0100
TZOFFSETTO:+0200
END:DAYLIGHT
BEGIN:STANDARD
DTSTART:20231029T030000Z
TZOFFSETFROM:+0200
TZOFFSETTO:+0100
END:STANDARD
BEGIN:DAYLIGHT
DTSTART:20240331T020000Z
TZOFFSETFROM:+0100
TZOFFSETTO:+0200
END:DAYLIGHT
END:VTIMEZONE
BEGIN:VTIMEZONE
TZID:UTC
BEGIN:STANDARD
DTSTART:20250726T090658Z
TZOFFSETFROM:+0000
TZOFFSETTO:+0000
END:STANDARD
END:VTIMEZONE
BEGIN:VEVENT
UID:58-51
DTSTAMP:20260422T090658Z
SUMMARY:Permanence Ecole Nationale de Police Nîmes ACEF du MIDI/ Fonction 
 Publique 10h30/14h00
LOCATION:
ORGANIZER;CN=Alain CONSTANZA:MAILTO:alainacef30@hotmail.fr
DTSTART;TZID=Europe/Paris:20231115T185700
DTEND;TZID=Europe/Paris:20231115T195700
X-ALT-DESC;FMTTYPE=TEXT/HTML:
CATEGORIES:ACEF ADMIN,  Acef MIDI
URL;VALUE=URI:https://www.acef-du-sud.fr/mc-events/permanence-ecole-nationa
 le-de-police-nimes-acef-du-midi-fonction-publique-10h30-14h00/
METHOD:PUBLISH
END:VEVENT
END:VCALENDAR