BEGIN:VCALENDAR
VERSION:2.0
PRODID:spatie/icalendar-generator
DESCRIPTION:Évènements de ACEF POAA
X-WR-CALDESC:Évènements de ACEF POAA
REFRESH-INTERVAL;VALUE=DURATION:PT1440M
X-PUBLISHED-TTL:PT1440M
BEGIN:VTIMEZONE
TZID:Europe/Paris
BEGIN:STANDARD
DTSTART:20231029T030000Z
TZOFFSETFROM:+0200
TZOFFSETTO:+0100
END:STANDARD
BEGIN:DAYLIGHT
DTSTART:20240331T020000Z
TZOFFSETFROM:+0100
TZOFFSETTO:+0200
END:DAYLIGHT
END:VTIMEZONE
BEGIN:VTIMEZONE
TZID:UTC
BEGIN:STANDARD
DTSTART:20250726T135658Z
TZOFFSETFROM:+0000
TZOFFSETTO:+0000
END:STANDARD
END:VTIMEZONE
BEGIN:VEVENT
UID:21-21
DTSTAMP:20260422T135658Z
SUMMARY:CONSEIL D'ADMINISTRATION
LOCATION:SIEGE DE LA BPS - 6ème étage
ORGANIZER;CN=M-Louise CASTAGNÉ:MAILTO:marielouisecastagne@gmail.com
DTSTART;TZID=Europe/Paris:20240112T093000
DTEND;TZID=Europe/Paris:20240112T120000
X-ALT-DESC;FMTTYPE=TEXT/HTML:<p>David BARBIER</p>\n
CATEGORIES:Acef POAA
URL;VALUE=URI:https://www.acef-du-sud.fr/acef-poaa/mc-events/conseil-dadmin
 istration-2/
METHOD:PUBLISH
END:VEVENT
END:VCALENDAR